BEGIN:VCALENDAR
VERSION:2.0
PRODID:-//Melbourne Cobra Owners Club - ECPv4.9.8//NONSGML v1.0//EN
CALSCALE:GREGORIAN
METHOD:PUBLISH
X-WR-CALNAME:Melbourne Cobra Owners Club
X-ORIGINAL-URL:https://melbournecobraowners.org.au
X-WR-CALDESC:Events for Melbourne Cobra Owners Club
BEGIN:VTIMEZONE
TZID:Australia/Melbourne
BEGIN:STANDARD
TZOFFSETFROM:+1100
TZOFFSETTO:+1000
TZNAME:AEST
DTSTART:20200404T160000
END:STANDARD
BEGIN:DAYLIGHT
TZOFFSETFROM:+1000
TZOFFSETTO:+1100
TZNAME:AEDT
DTSTART:20201003T160000
END:DAYLIGHT
END:VTIMEZONE
BEGIN:VEVENT
DTSTART;TZID="Australia/Melbourne":20200129T190000
DTEND;TZID="Australia/Melbourne":20200129T213000
DTSTAMP:20200228T072702
CREATED:20190915T103527Z
LAST-MODIFIED:20190915T103527Z
UID:552-1580324400-1580333400@melbournecobraowners.org.au
SUMMARY:MCOC committee meeting
DESCRIPTION:
URL:https://melbournecobraowners.org.au/event/mcoc-committee-meeting-3/
LOCATION:Manningham Hotel\, 1 Thompsons Rd\, Bulleen\, Victoria\, 3105\, Australia
END:VEVENT
END:VCALENDAR